BEGIN:VCALENDAR
VERSION:2.0
PRODID:icalendar-ruby
CALSCALE:GREGORIAN
METHOD:PUBLISH
BEGIN:VEVENT
DTSTAMP:20260426T042602Z
UID:5-982335@rwccinc.org
DTSTART:20261018T143000Z
DTEND:20261018T163000Z
CLASS:PUBLIC
CREATED:20260425T201031
DESCRIPTION:Join us for our Worship Service where we assemble to worship Go
 d and to be strenghten. All our welcome. 
LAST-MODIFIED:20260425T201031
LOCATION:In-Person & Online
SUMMARY:Sunday Worship Service
URL;VALUE=URI:https://www.rwccinc.org/events/sunday-worship-service/2026-10
 -18
ATTACH;FILENAME=aaron-burden-09AhDCedXF8-unsplash.jpg;FMTTYPE=image/jpeg:ht
 tps://dq5pwpg1q8ru0.cloudfront.net/2020/03/10/08/39/37/17a4cad9-0aec-4dfa-
 a41e-d2f285688162/aaron-burden-09AhDCedXF8-unsplash.jpg
END:VEVENT
END:VCALENDAR
